BEGIN:VCALENDAR
VERSION:2.0
PRODID:https://verlag.zeit.de/veranstaltungen/ausblick/zeit-fuer-forschung/epidemie-und-wissensdurst-das-verhaeltnis-von-wissenschaft-und-gesellschaft-im-zeichen-von-corona/
METHOD:PUBLISH
BEGIN:VEVENT
UID:pid-118650-2
LOCATION:online
SUMMARY:ZEIT für Wissen (Session Epidemie und Wissensdurst – das Verhältnis von Wissenschaft und Gesellschaft im Zeichen von Corona)
DESCRIPTION:
DTSTART:20200915T110000
DTEND:20200915T114500
DTSTAMP:20260422T205709
END:VEVENT
END:VCALENDAR