BEGIN:VCALENDAR
VERSION:2.0
PRODID:https://verlag.zeit.de/veranstaltungen/ausblick/zeit-fuer-forschung/mit-hightech-gegen-die-pandemie-wie-daten-helfen-corona-einzudaemmen/
METHOD:PUBLISH
BEGIN:VEVENT
UID:pid-119103-3
LOCATION:online
SUMMARY:ZEIT für Wissen (Session Mit Hightech gegen die Pandemie – wie Daten helfen, Corona einzudämmen)
DESCRIPTION:
DTSTART:20200915T140000
DTEND:20200915T150000
DTSTAMP:20260422T190709
END:VEVENT
END:VCALENDAR