BEGIN:VCALENDAR
VERSION:2.0
PRODID:https://verlag.zeit.de/veranstaltungen/zukunftspreis/
METHOD:PUBLISH
BEGIN:VEVENT
UID:pid-184486-2
LOCATION:Thalia Theater Hamburg, Alstertor, 20095 Hamburg
SUMMARY:Helmut-Schmidt-Zukunftspreis 2026
DESCRIPTION:
DTSTART:20260617T190000
DTEND:20260617T210000
DTSTAMP:20260424T140611
END:VEVENT
END:VCALENDAR