BEGIN:VCALENDAR
VERSION:2.0
PRODID:https://verlag.zeit.de/veranstaltungen/ausblick/zeit-veranstaltungen/zeit-forum-gesundheit-24/
METHOD:PUBLISH
BEGIN:VEVENT
UID:pid-229651-3
LOCATION:Kammerspiele des Deutschen Theater Berlin, Schumannstraße 13a, 10117 Berlin
SUMMARY:ZEIT FORUM Gesundheit "Schlank durch die Spritze"
DESCRIPTION:
DTSTART:20241022T200000
DTEND:20241022T213000
DTSTAMP:20260423T160533
END:VEVENT
END:VCALENDAR