BEGIN:VCALENDAR
VERSION:2.0
PRODID:https://verlag.zeit.de/veranstaltungen/ausblick/zeit-veranstaltungen/servus-gruezi-hallo_basel/
METHOD:PUBLISH
BEGIN:VEVENT
UID:pid-236857-3
LOCATION:Stadtcasino Basel, Konzertgasse 1, 4051 Basel, Schweiz
SUMMARY:»Servus. Grüezi. Hallo.« live in Basel
DESCRIPTION:Matthias Daum\, Florian Gasser und Lenz Jacobsen nehmen den transalpinen ZEIT-Podcast »Servus. Grüezi. Hallo.« live im Stadtcasino Basel auf. 
DTSTART:20250910T200000
DTEND:20250910T213000
DTSTAMP:20260419T124000
END:VEVENT
END:VCALENDAR