BEGIN:VCALENDAR
VERSION:2.0
PRODID:https://verlag.zeit.de/veranstaltungen/ausblick/zeit-veranstaltungen/zeit-forum-gesundheit-am-20-04-2026/
METHOD:PUBLISH
BEGIN:VEVENT
UID:pid-238797-2
LOCATION:Kammerspiele des Deutschen Theaters Berlin, Schumannstraße 13a, 10117 Berlin
SUMMARY:ZEIT FORUM Gesundheit "Depression - die unterschätzte Krankheit"
DESCRIPTION:
DTSTART:20260420T193000
DTEND:20260420T210000
DTSTAMP:20260419T153532
END:VEVENT
END:VCALENDAR