BEGIN:VCALENDAR
VERSION:2.0
PRODID:https://verlag.zeit.de/veranstaltungen/ausblick/zeit-veranstaltungen/zeit-stand-bei-der-frankfurter-buchmesse-2025/
METHOD:PUBLISH
BEGIN:VEVENT
UID:pid-239825-2
LOCATION:Messe Frankfurt, Halle 3.1, Stand F90
SUMMARY:DIE ZEIT auf der Frankfurter Buchmesse 2025
DESCRIPTION:Erleben Sie am ZEIT-Stand auf der Frankfurter Buchmesse oder auf ZEIT ONLINE Autorinnen und Autoren im Bühnengespräch.
DTSTART:20251015T140000
DTEND:20251019T140000
DTSTAMP:20260423T154630
END:VEVENT
END:VCALENDAR