BEGIN:VCALENDAR
VERSION:2.0
PRODID:https://verlag.zeit.de/freunde/ausblick/live-video/autorinnengespraech-mit-rachel-khong/
METHOD:PUBLISH
BEGIN:VEVENT
UID:pid-241920-2
LOCATION:
SUMMARY:Autorinnengespräch mit Rachel Khong
DESCRIPTION:In »Real Americans« erzählt Rachel Khong ein Stück amerikanische Identitätsgeschichte und spannt dabei einen Bogen über drei Generationen und sehr unterschiedliche Lebenswege. Wie prägen Geheimnisse unser Leben? Wie finden Kinder und Eltern wieder zueinander? Wie können wir die Geschichten von Migration und Identitätssuche heute erzählen? Darüber möchten wir mit der Bestsellerautorin auf Zoom sprechen.
DTSTART:20260511T190000
DTEND:20260511T203000
DTSTAMP:20260422T125726
END:VEVENT
END:VCALENDAR