BEGIN:VCALENDAR
VERSION:2.0
PRODID:https://verlag.zeit.de/freunde/ausblick/live-video/autorinnengespraech-mit-lena-gorelik/
METHOD:PUBLISH
BEGIN:VEVENT
UID:pid-243774-2
LOCATION:
SUMMARY:Ein Autorinnengespraech mit Lena Gorelik
DESCRIPTION:Am 3. Juni sprechen wir live auf Zoom mit Lena Gorelik über unser Buch des Monats »Alle meine Mütter«. Wie gelingt es ihr\, so intim und berührend ehrlich über die engste aller zwischenmenschlichen Beziehungen zu schreiben? Und wie findet man die richtigen Worte für Gefühle\, die uns alle kennen – und die doch so schwer zu fassen sind? 
DTSTART:20260603T190000
DTEND:20260603T203000
DTSTAMP:20260422T183236
END:VEVENT
END:VCALENDAR