BEGIN:VCALENDAR
VERSION:2.0
PRODID:https://verlag.zeit.de/veranstaltungen/ausblick/campus/zeit-campus-pop-up-wg/
METHOD:PUBLISH
BEGIN:VEVENT
UID:pid-63816-2
LOCATION:Levi's® Store, Schildergasse 84a, 50667 Köln
SUMMARY:ZEIT CAMPUS Pop-Up WG
DESCRIPTION:ZEIT CAMPUS gründet eine WG für einen Abend und lädt dich und deine Freunde ein\, dabei zu sein!
DTSTART:20221013T193000
DTEND:20221013T230000
DTSTAMP:20260421T013526
END:VEVENT
END:VCALENDAR